BEGIN:VCALENDAR
VERSION:2.0
PRODID:-//hemofiliapr.org//NONSGML kigkonsult.se iCalcreator 2.30.10//
CALSCALE:GREGORIAN
METHOD:PUBLISH
UID:79e233fb-b249-44e2-8c9d-f123041b3a44
X-WR-CALDESC:Bombazo Educativo es nuestro último  evento del año. Durante e
 l mismo\, se ofrecen charlas dirigidas a cada miembro de la familia. Reuni
 mos a nuestra comunidad y celebramos las fiestas navideñas mientras brinda
 mos información. Además\, tendremos el Salón de Exhibiciones\, donde todos
  nuestros patrocinadores de la industria tendrán la oportunidad de interac
 tuar y entregar artículos promocionales a nuestros asistentes.\nBombazo Ed
 ucativo será el 3 de diciembre en Hacienda Loyola Barnés - Trujillo Alto. 
 P.R.\n¡Completa el registro electrónico ya!
X-WR-RELCALID:dcbba68356b178cf2a62a9cfab83e5fa
X-WR-TIMEZONE:America/Halifax
BEGIN:VTIMEZONE
TZID:America/Halifax
BEGIN:STANDARD
TZNAME:AST
DTSTART:20231105T020000
TZOFFSETFROM:-0300
TZOFFSETTO:-0400
RDATE:20241103T020000
END:STANDARD
BEGIN:DAYLIGHT
TZNAME:ADT
DTSTART:20230312T020000
TZOFFSETFROM:-0400
TZOFFSETTO:-0300
RDATE:20240310T020000
RDATE:20250309T020000
END:DAYLIGHT
END:VTIMEZONE
BEGIN:VEVENT
UID:2c1ee68a-752d-4d8f-9d4c-cb17518c568e
DTSTAMP:20260426T043706Z
DESCRIPTION:Bombazo Educativo es nuestro último  evento del año. Durante el
  mismo\, se ofrecen charlas dirigidas a cada miembro de la familia. Reunim
 os a nuestra comunidad y celebramos las fiestas navideñas mientras brindam
 os información. Además\, tendremos el Salón de Exhibiciones\, donde todos 
 nuestros patrocinadores de la industria tendrán la oportunidad de interact
 uar y entregar artículos promocionales a nuestros asistentes.\nBombazo Edu
 cativo será el 3 de diciembre en Hacienda Loyola Barnés - Trujillo Alto. P
 .R.\n¡Completa el registro electrónico ya!
DTSTART;TZID=America/Halifax:20231203T100000
DTEND;TZID=America/Halifax:20231203T160000
LOCATION:Hacienda Loyola Barnes - Trujillo Alto. P.R.
SUMMARY:Bombazo Educativo 2023
END:VEVENT
END:VCALENDAR
