BEGIN:VCALENDAR
VERSION:2.0
PRODID:-//hemofiliapr.org//NONSGML kigkonsult.se iCalcreator 2.30.10//
CALSCALE:GREGORIAN
METHOD:PUBLISH
UID:6e7c47f3-ff76-4dd8-a0b4-884765f3a03b
X-WR-CALDESC:¡Regresamos a Ponce! Por quinto año consecutivo\, llevaremos a
  cabo este evento informativo sobre productos y marcas de la industria man
 ufacturera organizado por APH. Dicho evento brindará a las empresas la opo
 rtunidad de organizar sesiones con contenido de marca y productos. De esta
  manera\, los pacientes y cuidadores de nuestra comunidad tendrán acceso a
  dicha información\, con el fin de conocer las nuevas modalidades de trata
 miento y los productos disponibles en el mercado. El propósito principal d
 el mismo es educarse y conocer las compañías que sirven a nuestra comunida
 d. Para las familias que participen habrá muchas sorpresas\, incluyendo un
 a tarjeta de regalo valorada en $25.00 (Límite a una (1) tarjeta por famil
 ia) . El evento es totalmente libre de costo. ¡No faltes!
X-WR-RELCALID:8908439e06b78938d6ebd553731c35ef
X-WR-TIMEZONE:America/Halifax
BEGIN:VTIMEZONE
TZID:America/Halifax
BEGIN:STANDARD
TZNAME:AST
DTSTART:20241103T020000
TZOFFSETFROM:-0300
TZOFFSETTO:-0400
RDATE:20251102T020000
END:STANDARD
BEGIN:DAYLIGHT
TZNAME:ADT
DTSTART:20240310T020000
TZOFFSETFROM:-0400
TZOFFSETTO:-0300
RDATE:20250309T020000
RDATE:20260308T020000
END:DAYLIGHT
END:VTIMEZONE
BEGIN:VEVENT
UID:095ae8cd-d6e3-4018-b395-30db10daf440
DTSTAMP:20260426T011526Z
DESCRIPTION:¡Regresamos a Ponce! Por quinto año consecutivo\, llevaremos a 
 cabo este evento informativo sobre productos y marcas de la industria manu
 facturera organizado por APH. Dicho evento brindará a las empresas la opor
 tunidad de organizar sesiones con contenido de marca y productos. De esta 
 manera\, los pacientes y cuidadores de nuestra comunidad tendrán acceso a 
 dicha información\, con el fin de conocer las nuevas modalidades de tratam
 iento y los productos disponibles en el mercado. El propósito principal de
 l mismo es educarse y conocer las compañías que sirven a nuestra comunidad
 . Para las familias que participen habrá muchas sorpresas\, incluyendo una
  tarjeta de regalo valorada en $25.00 (Límite a una (1) tarjeta por famili
 a) . El evento es totalmente libre de costo. ¡No faltes!
DTSTART;TZID=America/Halifax:20250209T100000
DTEND;TZID=America/Halifax:20250209T160000
LOCATION:Hilton Ponce Golf & Casino Resort
SUMMARY:Simposio Industrial
END:VEVENT
END:VCALENDAR
