BEGIN:VCALENDAR
VERSION:2.0
PRODID:-//hemofiliapr.org//NONSGML kigkonsult.se iCalcreator 2.30.10//
CALSCALE:GREGORIAN
METHOD:PUBLISH
UID:b3557196-9f98-4e50-be14-3259951d41cf
X-WR-CALDESC:¡ATENCIÓN PACIENTES DE VON WILLEBRAND!\nAcompáñanos en nuestro
  4to encuentro educativo sobre #vonWillebrand\, el próximo\, 28 de septiem
 bre de 2025 en Aibonito. Por cuarto año consecutivo tendremos un evento ex
 clusivo para cuidadores y pacientes de #vWD.\nAsegura tu espacio lo antes 
 posible. ¡Completa el registro en el botón rosa!\n¡NO TE LO PUEDES PERDER!
  \n#asociaciónpuertorriqueñadehemofilia #condicionesdesangrado #vwd
X-WR-RELCALID:5ea61b761472aece038a60a8e8a6bc50
X-WR-TIMEZONE:America/Halifax
BEGIN:VTIMEZONE
TZID:America/Halifax
BEGIN:STANDARD
TZNAME:AST
DTSTART:20241103T020000
TZOFFSETFROM:-0300
TZOFFSETTO:-0400
RDATE:20251102T020000
RDATE:20261101T020000
END:STANDARD
BEGIN:DAYLIGHT
TZNAME:ADT
DTSTART:20250309T020000
TZOFFSETFROM:-0400
TZOFFSETTO:-0300
RDATE:20260308T020000
RDATE:20270314T020000
END:DAYLIGHT
END:VTIMEZONE
BEGIN:VEVENT
UID:234b032e-75fd-4c9b-a810-bb306f237953
DTSTAMP:20260426T011931Z
DESCRIPTION:¡ATENCIÓN PACIENTES DE VON WILLEBRAND!\nAcompáñanos en nuestro 
 4to encuentro educativo sobre #vonWillebrand\, el próximo\, 28 de septiemb
 re de 2025 en Aibonito. Por cuarto año consecutivo tendremos un evento exc
 lusivo para cuidadores y pacientes de #vWD.\nAsegura tu espacio lo antes p
 osible. ¡Completa el registro en el botón rosa!\n¡NO TE LO PUEDES PERDER! 
 \n#asociaciónpuertorriqueñadehemofilia #condicionesdesangrado #vwd
DTSTART;TZID=America/Halifax:20250928T100000
DTEND;TZID=America/Halifax:20250928T153000
LOCATION:Fraternidad Nu Delta Phi\, Aibonito PR
SUMMARY:VWD Retreat 2025
END:VEVENT
END:VCALENDAR
