BEGIN:VCALENDAR
VERSION:2.0
PRODID:-//hemofiliapr.org//NONSGML kigkonsult.se iCalcreator 2.30.10//
CALSCALE:GREGORIAN
METHOD:PUBLISH
UID:fdec365f-29b1-44bf-ab75-bb56dc32b046
X-WR-CALDESC:¡Cuenta tu historia! Ven con nosotros a abogar por los pacient
 es de condiciones de sangrado. Cuenta tu historia y ayúdanos a visitar ofi
 cinas legislativas para llevar el mensaje y nuestras peticiones. Tu voz ti
 ene un impacto y necesitamos de ti para lograr nuestras metas. Para partic
 ipar llena el formulario en el botón de “regístrate”.
X-WR-RELCALID:da6dc8f0ed0a3fb25236b6fa80aae095
X-WR-TIMEZONE:America/Halifax
BEGIN:VTIMEZONE
TZID:America/Halifax
BEGIN:STANDARD
TZNAME:AST
DTSTART:20251102T020000
TZOFFSETFROM:-0300
TZOFFSETTO:-0400
RDATE:20261101T020000
END:STANDARD
BEGIN:DAYLIGHT
TZNAME:ADT
DTSTART:20260308T020000
TZOFFSETFROM:-0400
TZOFFSETTO:-0300
RDATE:20270314T020000
END:DAYLIGHT
END:VTIMEZONE
BEGIN:VEVENT
UID:f93fa59b-fbe7-41ed-9d51-0ec927ab0e34
DTSTAMP:20260425T232938Z
DESCRIPTION:¡Cuenta tu historia! Ven con nosotros a abogar por los paciente
 s de condiciones de sangrado. Cuenta tu historia y ayúdanos a visitar ofic
 inas legislativas para llevar el mensaje y nuestras peticiones. Tu voz tie
 ne un impacto y necesitamos de ti para lograr nuestras metas. Para partici
 par llena el formulario en el botón de “regístrate”.
DTSTART;TZID=America/Halifax:20260318T080000
DTEND;TZID=America/Halifax:20260318T140000
LOCATION:Capitolio de P.R.
SUMMARY:Advocacy Day 2026
END:VEVENT
END:VCALENDAR
